Workbook
Name Additional_Factor: 'אפשרויות בחירה'!$C$706:$C$854
Name Amoritization: 'אפשרויות בחירה'!$C$544:$C$548
Name Capsule: 'אפשרויות בחירה'!$C$934:$C$936
Name Company_Name: 'File Name Info'!$A$34:$A$130
Name Company_Name_ID: 'File Name Info'!$A$34:$B$130
Name Consortium: 'אפשרויות בחירה'!$C$512:$C$513
Name Country_list: 'אפשרויות בחירה'!$C$4:$C$85
Name Country_list_funds: 'אפשרויות בחירה'!$C$4:$C$103
Name CSA: 'אפשרויות בחירה'!$C$693:$C$694
Name Delivery: 'אפשרויות בחירה'!$C$670:$C$671
Name Dependence_Independence: 'אפשרויות בחירה'!$C$658:$C$659
Name Duration_Underlying_Interest_Rate: 'אפשרויות בחירה'!$C$685:$C$692
Name File_Type: 'File Name Info'!$A$10:$A$12
Name Full_File_Type: 'File Name Info'!$A$11:$B$13
Name Full_Type: 'File Name Info'!$A$2:$B$8
Name Full_Type_Nostro: 'File Name Info'!$A$3:$B$6
Name Full_Year: 'File Name Info'!$A$22:$B$31
Name Fund_Strategy: 'אפשרויות בחירה'!$C$595:$C$625
Name Fund_type: 'אפשרויות בחירה'!$C$326:$C$496
Name Holding_interest: 'אפשרויות בחירה'!$C$146:$C$147
Name In_the_books: 'אפשרויות בחירה'!$C$660:$C$661
Name Industry_Sector: 'אפשרויות בחירה'!#REF!
Name Industry_sector_all: 'אפשרויות בחירה'!$C$202:$C$325
Name Industry_sectors: 'אפשרויות בחירה'!$C$202:$C$325
Name israel_abroad: 'אפשרויות בחירה'!$C$2:$C$3
Name Issuer_Number_Banks: 'אפשרויות בחירה'!$C$111:$C$113
Name Issuer_Number_Fund: 'אפשרויות בחירה'!$C$114:$C$117
Name issuer_number_loan: 'אפשרויות בחירה'!$C$118:$C$126
Name Issuer_Number_Type: 'אפשרויות בחירה'!$C$104:$C$110
Name Issuer_Number_Type_2: 'אפשרויות בחירה'!#REF!
Name Issuer_Number_Type_3: 'אפשרויות בחירה'!#REF!
Name Issuer_Number_Type_V2: 'אפשרויות בחירה'!$C$104:$C$110
Name Issuer_Type_TFunds: 'אפשרויות בחירה'!#REF!
Name Leading_factor: 'אפשרויות בחירה'!$C$697:$C$705
Name Linked_Type: 'אפשרויות בחירה'!$C$514:$C$517
Name other_investments: 'אפשרויות בחירה'!$C$1018:$C$1051
Name Penalty: 'אפשרויות בחירה'!$C$855:$C$856
Name QTR: 'File Name Info'!$A$15:$A$19
Name Rating_Agency: 'אפשרויות בחירה'!$C$188:$C$201
Name real_estate_lifestage: 'אפשרויות בחירה'!$C$638:$C$646
Name real_estate_loans: 'אפשרויות בחירה'!$C$551:$C$589
Name Real_Estate_Main_Use: 'אפשרויות בחירה'!$C$626:$C$637
Name Recourse_Nonrecourse: 'אפשרויות בחירה'!$C$542:$C$543
Name Repayment_Rights: 'אפשרויות בחירה'!$C$549:$C$550
Name Reset_frequency: 'אפשרויות בחירה'!$C$662:$C$669
Name Security_ID_Number_Type: 'אפשרויות בחירה'!#REF!
Name Security_Number_Loans: 'אפשרויות בחירה'!$C$131
Name Stock_Exchange: 'אפשרויות בחירה'!#REF!
Name Stock_Exchange_Gov_Bonds: 'אפשרויות בחירה'!$C$148:$C$181
Name Subordination_Risk: 'אפשרויות בחירה'!$C$186:$C$187
Name Tradeable_Status: 'אפשרויות בחירה'!#REF!
Name Tradeable_Status_All: 'אפשרויות בחירה'!$C$135:$C$145
Name tradeable_status_bonds: 'אפשרויות בחירה'!#REF!
Name tradeable_status_funds: 'אפשרויות בחירה'!#REF!
Name tradeable_status_stock: 'אפשרויות בחירה'!#REF!
Name Tradeable_Status_v2: 'אפשרויות בחירה'!#REF!
Name tradeable_status_warrants: 'אפשרויות בחירה'!#REF!
Name tradeable_status_warrants_v2: 'אפשרויות בחירה'!#REF!
Name Transaction: 'אפשרויות בחירה'!$C$647:$C$650
Name Type: 'File Name Info'!$A$2:$A$8

Sheet חוות דעת רו"ח

Sheet עמוד פתיחה
A1: קובץ דיווח עבור רשימת נכסים ברמת הנכס הבודד (חוזר גופים מוסדיים 2015-9-14)
A3: יש לבחור תחום: | D3: נכסי עמיתים - קופות גמל
A5: האם מדובר בקובץ לממומנה או לציבור: | D5: לציבור
A7: יש לבחור את רבעון הדיווח: | D7: 2
A9: יש לבחור את שנת הדיווח: | D9: 2026
A11: יש לבחור את הגוף המוסדי: | D11: קרן מקפת מרכז לפנסיה ותגמולים אגודה שיתופית בע"מ
A13: ח.פ. הגוף המוסדי: | D13: 570009852
A15: שם קובץ לשמירה | D15: 570009852_gm_p_0226.xlsx
A17: פרטי האחראי על הדיווח בגוף המוסדי | B17: שם:
B19: מספר טלפון:
B21: כתובת מייל:
A23: הוראות למילוי הדיווח: | D23: יש לדווח לפי ההנחיות בחלק ג' לנספח 5.4.3.2 שבפרק 3 שבחלק 4 לשער 5 בחוזר המאוחד - "רשימת נכסים ברמת הנכס הבודד".

Sheet סכום נכסים
C1: ידווח בקבצי נכסי הנוסטרו בלבד
A2: אפיק | B2: שווי הוגן (באלפי ש"ח) | C2: עלות מופחתת (באלפי ש"ח) | D2: השיטה שיושמה בדוח הכספי | E2: שיעור מסך נכסי השקעה
A3: מזומנים ושווי מזומנים | B3: =SUM('מזומנים ושווי מזומנים'!O:O) -> 2187.7554 | E3: =IFERROR(B3/$B$30,0) -> 0.041442084
A4: איגרות חוב ממשלתיות | B4: =SUM('איגרות חוב ממשלתיות'!U:U) -> 6943.1349 | E4: =IFERROR(B4/$B$30,0) -> 0.13152201
A5: ניירות ערך מסחריים | B5: =SUM('ניירות ערך מסחריים'!AD:AD) -> 0 | E5: =IFERROR(B5/$B$30,0) -> 0
A6: איגרות חוב | B6: =SUM('איגרות חוב'!AD:AD) -> 85.30495 | E6: =IFERROR(B6/$B$30,0) -> 0.0016159096
A7: מניות מבכ ויהש | B7: =SUM('מניות מבכ ויהש'!U:U) -> 0 | E7: =IFERROR(B7/$B$30,0) -> 0
A8: קרנות סל | B8: =SUM('קרנות סל'!T:T) -> 42757.785 | E8: =IFERROR(B8/$B$30,0) -> 0.80994965
A9: קרנות נאמנות | B9: =SUM('קרנות נאמנות'!T:T) -> 0 | E9: =IFERROR(B9/$B$30,0) -> 0
A10: כתבי אופציה | B10: =SUM('כתבי אופציה'!W:W) -> 0 | E10: =IFERROR(B10/$B$30,0) -> 0
A11: אופציות | B11: =SUM(אופציות!V:V) -> 0 | E11: =IFERROR(B11/$B$30,0) -> 0
A12: חוזים עתידיים | B12: =SUM('חוזים עתידיים'!R:R) -> 0 | E12: =IFERROR(B12/$B$30,0) -> 0
A13: מוצרים מובנים | B13: =SUM('מוצרים מובנים'!Z:Z) -> 0 | E13: =IFERROR(B13/$B$30,0) -> 0
A14: לא סחיר איגרות חוב ממשלתיות | B14: =SUM('לא סחיר איגרות חוב ממשלתיות'!U:U) -> 0 | E14: =IFERROR(B14/$B$30,0) -> 0
A15: לא סחיר איגרות חוב מיועדות | B15: =SUM('לא סחיר איגרות חוב מיועדות'!N:N) -> 0 | E15: =IFERROR(B15/$B$30,0) -> 0
A16: אפיק השקעה מובטח תשואה | B16: =SUM('אפיק השקעה מובטח תשואה'!F:F) -> 0 | E16: =IFERROR(B16/$B$30,0) -> 0
A17: לא סחיר ניירות ערך מסחריים | B17: =SUM('לא סחיר ניירות ערך מסחריים'!AI:AI) -> 0 | E17: =IFERROR(B17/$B$30,0) -> 0
A18: לא סחיר איגרות חוב | B18: =SUM('לא סחיר איגרות חוב'!AG:AG) -> 0 | E18: =IFERROR(B18/$B$30,0) -> 0
A19: לא סחיר מניות מבכ ויהש | B19: =SUM('לא סחיר מניות מבכ ויהש'!X:X) -> 0 | E19: =IFERROR(B19/$B$30,0) -> 0
A20: קרנות השקעה | B20: =SUM('קרנות השקעה'!W:W) -> 0 | E20: =IFERROR(B20/$B$30,0) -> 0
A21: לא סחיר כתבי אופציה | B21: =SUM('לא סחיר כתבי אופציה'!Z:Z) -> 0 | E21: =IFERROR(B21/$B$30,0) -> 0
A22: לא סחיר אופציות | B22: =SUM('לא סחיר אופציות'!Z:Z) -> 0 | E22: =IFERROR(B22/$B$30,0) -> 0
A23: לא סחיר נגזרים אחרים | B23: =SUM('לא סחיר נגזרים אחרים'!R:R) -> 816.69038 | E23: =IFERROR(B23/$B$30,0) -> 0.015470354
A24: הלוואות | B24: =SUM(הלוואות!AT:AT) -> 0 | E24: =IFERROR(B24/$B$30,0) -> 0
A25: לא סחיר מוצרים מובנים | B25: =SUM('לא סחיר מוצרים מובנים'!AB:AB) -> 0 | E25: =IFERROR(B25/$B$30,0) -> 0
A26: פיקדונות מעל 3 חודשים | B26: =SUM('פיקדונות מעל 3 חודשים'!T:T) -> 0 | E26: =IFERROR(B26/$B$30,0) -> 0
A27: זכויות מקרקעין | B27: =SUM('זכויות מקרקעין'!S:S) -> 0 | E27: =IFERROR(B27/$B$30,0) -> 0
A28: השקעה בחברות מוחזקות | B28: =SUM('השקעה בחברות מוחזקות'!U:U) -> 0 | E28: =IFERROR(B28/$B$30,0) -> 0
A29: נכסים אחרים | B29: =SUM('נכסים אחרים'!N:N) -> 0 | E29: =IFERROR(B29/$B$30,0) -> 0
A30: סך הכל נכסים | B30: =SUM(B3:B29) -> 52790.67 | D30: 0 | E30: =IFERROR(B30/$B$30,0) -> 1
A31: מסגרות אשראי | D31: =SUM('מסגרות אשראי'!S:S) -> 0
A32: יתרות התחייבות להשקעה | D32: =SUM('יתרות התחייבות להשקעה'!O:O) -> 0

Sheet מזומנים ושווי מזומנים
A1: מספר קופה/קרן/ח.פ. עבור חברת ביטוח | B1: מספר מסלול | C1: שם הבנק | D1: מספר מזהה בנק | E1: סוג מספר מזהה בנק | F1: מאפיין עיקרי | G1: ישראל/חו"ל | H1: בעל עניין/צד קשור | I1: דירוג הבנק | J1: שם מדרג | K1: מטבע פעילות | L1: שווי מטבעי | M1: שער חליפין | N1: שיעור ריבית | O1: שווי הוגן (באלפי ש"ח) | P1: שיעור מנכסי אפיק ההשקעה | Q1: שיעור מסך נכסי ההשקעה
A2: 513 | B2: 513 | C2: בנק הפועלים | D2: 12-600 | E2: סימול בנק | F2: מזומן ועו"ש בש"ח | G2: ישראל | H2: לא | I2: ilAAA | J2: S&P מעלות | K2: ILS | L2: 1524.0218 | M2: 1 | O2: 1524.0218 | P2: 0.696613 | Q2: 0.028869
A3: 513 | B3: 513 | C3: בנק הפועלים | D3: 12-600 | E3: סימול בנק | F3: מזומן ועו"ש נקוב במט"ח | G3: ישראל | H3: לא | I3: ilAAA | J3: S&P מעלות | K3: EUR | L3: 0.88369 | M3: 3.3945 | O3: 2.99969 | P3: 0.001371 | Q3: 5.6e-05
A4: 513 | B4: 513 | C4: בנק לאומי | D4: 10-800 | E4: סימול בנק | F4: מזומן ועו"ש בש"ח | G4: ישראל | H4: לא | I4: ilAAA | J4: S&P מעלות | K4: ILS | L4: 0.08922 | M4: 1 | O4: 0.08922 | P4: 4e-05 | Q4: 1e-06
A5: 513 | B5: 513 | C5: בנק לאומי | D5: 10-800 | E5: סימול בנק | F5: מזומן ועו"ש נקוב במט"ח | G5: ישראל | H5: לא | I5: ilAAA | J5: S&P מעלות | K5: USD | L5: 0.09132 | M5: 2.978 | O5: 0.27195 | P5: 0.000124 | Q5: 5e-06
A6: 513 | B6: 513 | C6: בנק לאומי | D6: 10-800 | E6: סימול בנק | F6: מזומן ועו"ש נקוב במט"ח | G6: ישראל | H6: לא | I6: ilAAA | J6: S&P מעלות | K6: GBP | L6: 0.07971 | M6: 3.9389 | O6: 0.31397 | P6: 0.000143 | Q6: 5e-06
A7: 513 | B7: 513 | C7: בנק מזרחי | D7: 20-21 | E7: סימול בנק | F7: מזומן ועו"ש בש"ח | G7: ישראל | H7: לא | I7: ilAAA | J7: S&P מעלות | K7: ILS | L7: 493.46558 | M7: 1 | O7: 493.46558 | P7: 0.225557 | Q7: 0.009347
A8: 513 | B8: 513 | C8: בנק מזרחי | D8: 20-21 | E8: סימול בנק | F8: מזומן ועו"ש נקוב במט"ח | G8: ישראל | H8: לא | I8: ilAAA | J8: S&P מעלות | K8: USD | L8: 0.03462 | M8: 2.978 | O8: 0.1031 | P8: 4.7e-05 | Q8: 1e-06
A9: 513 | B9: 513 | C9: בנק הפועלים | D9: 12-600 | E9: סימול בנק | F9: מזומן ועו"ש נקוב במט"ח | G9: ישראל | H9: לא | I9: ilAAA | J9: S&P מעלות | K9: GBP | L9: 0.72584 | M9: 3.9389 | O9: 2.85901 | P9: 0.001306 | Q9: 5.4e-05
A10: 513 | B10: 513 | C10: בנק הפועלים | D10: 12-600 | E10: סימול בנק | F10: מזומן ועו"ש נקוב במט"ח | G10: ישראל | H10: לא | I10: ilAAA | J10: S&P מעלות | K10: CAD | L10: 0.13989 | M10: 2.0917 | O10: 0.29261 | P10: 0.000133 | Q10: 5e-06
A11: 513 | B11: 513 | C11: בנק הפועלים | D11: 12-600 | E11: סימול בנק | F11: מזומן ועו"ש נקוב במט"ח | G11: ישראל | H11: לא | I11: ilAAA | J11: S&P מעלות | K11: USD | L11: 54.82828 | M11: 2.978 | O11: 163.27862 | P11: 0.074632 | Q11: 0.003092
A12: 513 | B12: 513 | C12: בנק לאומי | D12: 10-800 | E12: סימול בנק | F12: מזומן ועו"ש נקוב במט"ח | G12: ישראל | H12: לא | I12: ilAAA | J12: S&P מעלות | K12: CAD | L12: 0.02863 | M12: 2.0917 | O12: 0.05989 | P12: 2.7e-05 | Q12: 1e-06

Sheet איגרות חוב ממשלתיות
A1: מספר קופה/קרן/ח.פ. עבור חברת ביטוח | B1: מספר מסלול | C1: שם מנפיק | D1: שם נייר ערך | E1: מספר נייר ערך | F1: מאפיין עיקרי | G1: ישראל/חו"ל | H1: מדינה לפי חשיפה כלכלית | I1: זירת מסחר | J1: דירוג | K1: שם מדרג | L1: מטבע פעילות | M1: מח"מ | N1: מועד פדיון | O1: שיעור ריבית | P1: תשואה לפדיון | Q1: סכום לקבל (במטבע הפעילות) | R1: ערך נקוב (יחידות) | S1: שער חליפין | T1: שער נייר הערך | U1: שווי הוגן (באלפי ש"ח) | V1: עלות מופחתת (באלפי ש"ח) | W1: השיטה שיושמה בדוח הכספי | X1: שיעור מערך נקוב מונפק | Y1: שיעור מנכסי אפיק ההשקעה | Z1: שיעור מסך נכסי ההשקעה
A2: 513 | B2: 513 | C2: ממשלת ישראל | D2: ממשל צמודה 0431 | E2: IL0012207226 | F2: צמוד למדד המחירים לצרכן בריבית קבועה | G2: ישראל | H2: ישראל | I2: TASE | J2: ilRF | K2: S&P מעלות | L2: ILS | M2: 4.64 | N2: 47968 | O2: 0.02 | P2: 0.0181 | Q2: 0 | R2: 2938271 | S2: 1 | T2: 103.97 | U2: 3054.9204 | X2: 0.000139 | Y2: 0.439991 | Z2: 0.057868
A3: 513 | B3: 513 | C3: ממשלת ישראל | D3: ממשלתי שקלי 142 | E3: IL0011254005 | F3: לא צמוד למדד המחירים לצרכן ריבית קבועה | G3: ישראל | H3: ישראל | I3: TASE | J3: ilRF | K3: S&P מעלות | L3: ILS | M3: 11.06 | N3: 51897 | O3: 0.055 | P3: 0.0394 | Q3: 0 | R3: 1571941 | S3: 1 | T3: 120.13 | U3: 1888.3727 | X3: 4.2e-05 | Y3: 0.271976 | Z3: 0.03577
A4: 513 | B4: 513 | C4: ממשלת ישראל | D4: ממשלתי צמוד 0837 | E4: IL0012372053 | F4: צמוד למדד המחירים לצרכן בריבית קבועה | G4: ישראל | H4: ישראל | I4: TASE | J4: ilRF | K4: S&P מעלות | L4: ILS | M4: 10.13 | N4: 50283 | O4: 0.0185 | P4: 0.0195 | Q4: 0 | R4: 1891466 | S4: 1 | T4: 101 | U4: 1910.3807 | X4: 0.000229 | Y4: 0.275146 | Z4: 0.036187
A5: 513 | B5: 513 | C5: ממשלת ישראל | D5: ממשל שקלית 1035 | E5: IL0012277849 | F5: לא צמוד למדד המחירים לצרכן ריבית קבועה | G5: ישראל | H5: ישראל | I5: TASE | J5: ilRF | K5: S&P מעלות | L5: ILS | M5: 7.76 | N5: 49613 | O5: 0.0415 | P5: 0.0368 | Q5: 0 | R5: 84080 | S5: 1 | T5: 106.4 | U5: 89.46112 | X5: 4e-06 | Y5: 0.012884 | Z5: 0.001694

Sheet ניירות ערך מסחריים
A1: מספר קופה/קרן/ח.פ. עבור חברת ביטוח | B1: מספר מסלול | C1: שם מנפיק | D1: מספר מנפיק | E1: סוג מספר מזהה מנפיק | F1: שם נייר ערך | G1: מספר נייר ערך | H1: סוג מספר נייר ערך | I1: מאפיין עיקרי | J1: ישראל/חו"ל | K1: מדינה לפי חשיפה כלכלית | L1: זירת מסחר | M1: ענף מסחר | N1: בעל עניין/צד קשור | O1: דירוג | P1: שם מדרג | Q1: דירוג נייר הערך/המנפיק | R1: מטבע פעילות | S1: מח"מ | T1: ריבית עוגן | U1: מועד פדיון | V1: שיעור ריבית | W1: תשואה לפדיון | X1: נחיתות חוזית | Y1: האם סווג כחוב בעייתי | Z1: ערך נקוב (יחידות) | AA1: שער חליפין | AB1: שער נייר הערך | AC1: סכום לקבל (במטבע הפעילות) | AD1: שווי הוגן (באלפי ש"ח) | AE1: עלות מופחתת (באלפי ש"ח) | AF1: עלות מופחתת (במטבע הפעילות) | AG1: השיטה שיושמה בדוח הכספי | AH1: שיעור מערך נקוב מונפק | AI1: שיעור מנכסי אפיק ההשקעה | AJ1: שיעור מסך נכסי ההשקעה
A2: 513 | B2: 513

Sheet איגרות חוב
A1: מספר קופה/קרן/ח.פ. עבור חברת ביטוח | B1: מספר מסלול | C1: שם מנפיק | D1: מספר מנפיק | E1: סוג מספר מזהה מנפיק | F1: שם נייר ערך | G1: מספר נייר ערך | H1: סוג מספר נייר ערך | I1: מאפיין עיקרי | J1: ישראל/חו"ל | K1: מדינה לפי חשיפה כלכלית | L1: סטאטוס סחירות | M1: זירת מסחר | N1: ענף מסחר | O1: בעל עניין/צד קשור | P1: דירוג | Q1: שם מדרג | R1: דירוג נייר הערך/המנפיק | S1: מטבע פעילות | T1: מח"מ | U1: מועד פדיון | V1: שיעור ריבית | W1: תשואה לפדיון | X1: נחיתות חוזית | Y1: האם סווג כחוב בעייתי | Z1: ערך נקוב (יחידות) | AA1: שער חליפין | AB1: שער נייר הערך | AC1: סכום לקבל (במטבע הפעילות) | AD1: שווי הוגן (באלפי ש"ח) | AE1: עלות מופחתת (באלפי ש"ח) | AF1: עלות מופחתת (במטבע הפעילות) | AG1: השיטה שיושמה בדוח הכספי | AH1: שיעור מערך נקוב מונפק | AI1: שיעור מנכסי אפיק ההשקעה | AJ1: שיעור מסך נכסי ההשקעה
A2: 513 | B2: 513 | C2: ביג מרכזי קניות | D2: 513623314 | E2: ח.פ. | F2: ביג אגח יח | G2: IL0011742264 | H2: ISIN | I2: צמוד למדד המחירים לצרכן | J2: ישראל | K2: ישראל | L2: סחיר | M2: TASE | N2: נדל"ן מניב בישראל | O2: לא | P2: Aa3.il | Q2: מידרוג Moodys | R2: נייר ערך | S2: ILS | T2: 3.34 | U2: 47937 | V2: 0.0133 | W2: 0.0247 | X2: החוב לא נחות | Z2: 34602.53 | AA2: 1 | AB2: 115.22 | AC2: 0 | AD2: 39.86904 | AH2: 3.5e-05 | AI2: 0.46737 | AJ2: 0.000755
A3: 513 | B3: 513 | C3: מימון ישיר | D3: 513893123 | E3: ח.פ. | F3: מימון ישיר אג' 5 | G3: IL0011828311 | H3: ISIN | I3: צמוד למדד המחירים לצרכן | J3: ישראל | K3: ישראל | L3: סחיר | M3: TASE | N3: אשראי חוץ בנקאי | O3: לא | P3: A1.il | Q3: מידרוג Moodys | R3: נייר ערך | S3: ILS | T3: 2.33 | U3: 48060 | V3: 0.01 | W3: 0.026 | X3: החוב לא נחות | Z3: 40337.28 | AA3: 1 | AB3: 112.64 | AC3: 0 | AD3: 45.43591 | AH3: 2.3e-05 | AI3: 0.532629 | AJ3: 0.00086

Sheet מניות מבכ ויהש
A1: מספר קופה/קרן/ח.פ. עבור חברת ביטוח | B1: מספר מסלול | C1: שם מנפיק | D1: מספר מנפיק | E1: סוג מספר מזהה מנפיק | F1: שם נייר ערך | G1: מספר נייר ערך | H1: סוג מספר נייר ערך | I1: מאפיין עיקרי | J1: ישראל/חו"ל | K1: מדינה לפי חשיפה כלכלית | L1: סטאטוס סחירות | M1: זירת מסחר | N1: ענף מסחר | O1: בעל עניין/צד קשור | P1: מטבע פעילות | Q1: ערך נקוב (יחידות) | R1: שער חליפין | S1: שער נייר הערך | T1: סכום לקבל (במטבע הפעילות) | U1: שווי הוגן (באלפי ש"ח) | V1: שיעור מערך נקוב מונפק | W1: שיעור מנכסי אפיק ההשקעה | X1: שיעור מסך נכסי ההשקעה
A2: 513 | B2: 513

Sheet קרנות סל
A1: מספר קופה/קרן/ח.פ. עבור חברת ביטוח | B1: מספר מסלול | C1: שם מנפיק | D1: מספר מנפיק | E1: סוג מספר מזהה מנפיק | F1: שם נייר ערך | G1: מספר נייר ערך | H1: סוג מספר נייר ערך | I1: מאפיין עיקרי | J1: ישראל/חו"ל | K1: מדינה לפי חשיפה כלכלית | L1: זירת מסחר | M1: סיווג הקרן | N1: בעל עניין/צד קשור | O1: מטבע פעילות | P1: ערך נקוב (יחידות) | Q1: שער חליפין | R1: שער נייר הערך | S1: סכום לקבל (במטבע הפעילות) | T1: שווי הוגן (באלפי ש"ח) | U1: שיעור מערך נקוב מונפק | V1: שיעור מנכסי אפיק ההשקעה | W1: שיעור מסך נכסי ההשקעה
A2: 513 | B2: 513 | C2: הראל קרנות נאמנות בע"מ | D2: 511776783 | E2: ח.פ. | F2: הראל סל (4A) ת"א 125 | G2: IL0011488991 | H2: ISIN | I2: עוקב אחר מדדי מניות בישראל | J2: ישראל | K2: ישראל | L2: TASE | M2: 125 מניות בארץ - מניות כללי-ת"א | N2: לא | O2: ILS | P2: 7445 | Q2: 1 | R2: 3912 | S2: 0 | T2: 291.2484 | U2: 3.6e-05 | V2: 0.006811 | W2: 0.005517
A3: 513 | B3: 513 | C3: מגדל קרנות נאמנות בע"מ | D3: 511303661 | E3: ח.פ. | F3: MTF סל (4A) ת"א 35 | G3: IL0011501843 | H3: ISIN | I3: עוקב אחר מדדי מניות בישראל | J3: ישראל | K3: ישראל | L3: TASE | M3: 35 מניות בארץ - מניות כללי-ת"א | N3: לא | O3: ILS | P3: 13826 | Q3: 1 | R3: 5417 | S3: 0 | T3: 748.95442 | U3: 0.000197 | V3: 0.017516 | W3: 0.014187
A4: 513 | B4: 513 | C4: אי.בי.אי - קרנות נאמנות בע"מ | D4: 513765339 | E4: ח.פ. | F4: אי.בי.אי (פסגות לשעבר) ETF תלבונד 60 | G4: IL0011480063 | H4: ISIN | I4: עוקב אחר מדדים אחרים בישראל | J4: ישראל | K4: ישראל | L4: TASE | M4: 60 אג"ח בארץ - חברות והמרה-תל בונד צמוד מדד-תל בונד | N4: לא | O4: ILS | P4: 0.86 | Q4: 1 | R4: 408.38 | S4: 0 | T4: 0.00351 | U4: 0 | V4: 0 | W4: 0
A5: 513 | B5: 513 | C5: מיטב תכלית קרנות נאמנות בע"מ | D5: 513534974 | E5: ח.פ. | F5: תכלית סל (00) תל בונד צמודות-יתר | G5: IL0011446908 | H5: ISIN | I5: עוקב אחר מדדים אחרים בישראל | J5: ישראל | K5: ישראל | L5: TASE | M5: 20 אג"ח בארץ - חברות והמרה-תל בונד צמוד מדד-תל בונד | N5: לא | O5: ILS | P5: 68497 | Q5: 1 | R5: 4351.45 | S5: 0 | T5: 2980.6127 | U5: 0.00499 | V5: 0.069709 | W5: 0.05646
A6: 513 | B6: 513 | C6: מיטב תכלית קרנות נאמנות בע"מ | D6: 513534974 | E6: ח.פ. | F6: תכלית סל (40) ת"א 125 | G6: IL0011437188 | H6: ISIN | I6: עוקב אחר מדדי מניות בישראל | J6: ישראל | K6: ישראל | L6: TASE | M6: 125 מניות בארץ - מניות כללי-ת"א | N6: לא | O6: ILS | P6: 89928 | Q6: 1 | R6: 3930 | S6: 0 | T6: 3534.1704 | U6: 0.000204 | V6: 0.082655 | W6: 0.066946
A7: 513 | B7: 513 | C7: קסם קרנות נאמנות בע"מ | D7: 510938608 | E7: ח.פ. | F7: קסם ETFי (00) תל בונד שקלי | G7: IL0011464141 | H7: ISIN | I7: עוקב אחר מדדים אחרים בישראל | J7: ישראל | K7: ישראל | L7: TASE | M7: אג"ח בארץ - חברות והמרה-תל בונד שקלי-תל בונד- שקלי | N7: לא | O7: ILS | P7: 68142 | Q7: 1 | R7: 4391.3 | S7: 0 | T7: 2992.3196 | U7: 0.001261 | V7: 0.069983 | W7: 0.056682
A8: 513 | B8: 513 | C8: אי.בי.אי - קרנות נאמנות בע"מ | D8: 513765339 | E8: ח.פ. | F8: אי.בי.אי. סל (4A) אינדקס בנקים ישראל | G8: IL0011487746 | H8: ISIN | I8: עוקב אחר מדדי מניות בישראל | J8: ישראל | K8: ישראל | L8: TASE | M8: מניות בארץ - מניות לפי ענפים-ת"א בנקים | N8: לא | O8: ILS | P8: 6561 | Q8: 1 | R8: 6622 | S8: 0 | T8: 434.46942 | U8: 2.8e-05 | V8: 0.010161 | W8: 0.00823
A9: 513 | B9: 513 | C9: מיטב תכלית קרנות נאמנות בע"מ | D9: 513534974 | E9: ח.פ. | F9: תכלית סל (00) תל בונד שקלי | G9: IL0011451841 | H9: ISIN | I9: עוקב אחר מדדים אחרים בישראל | J9: ישראל | K9: ישראל | L9: TASE | M9: אג"ח בארץ - חברות והמרה-תל בונד שקלי-תל בונד- שקלי | N9: לא | O9: ILS | P9: 49104 | Q9: 1 | R9: 441.89 | S9: 0 | T9: 216.98567 | U9: 6.6e-05 | V9: 0.005074 | W9: 0.00411
A10: 513 | B10: 513 | C10: מור ניהול קרנות נאמנות (2013) בע"מ | D10: 514884485 | E10: ח.פ. | F10: מור סל (4A) תא 90 | G10: IL0011961468 | H10: ISIN | I10: עוקב אחר מדדי מניות בישראל | J10: ישראל | K10: ישראל | L10: TASE | M10: 90 מניות בארץ - מניות כללי-ת"א | N10: לא | O10: ILS | P10: 10280 | Q10: 1 | R10: 9756 | S10: 0 | T10: 1002.9168 | U10: 0.000718 | V10: 0.023455 | W10: 0.018997
A11: 513 | B11: 513 | C11: אי.בי.אי - קרנות נאמנות בע"מ | D11: 513765339 | E11: ח.פ. | F11: אי בי אי ETF תא 125 | G11: IL0011488082 | H11: ISIN | I11: עוקב אחר מדדי מניות בישראל | J11: ישראל | K11: ישראל | L11: TASE | M11: 125 מניות בארץ - מניות כללי-ת"א | N11: לא | O11: ILS | P11: 36912 | Q11: 1 | R11: 3889 | S11: 0 | T11: 1435.5077 | U11: 9.1e-05 | V11: 0.033573 | W11: 0.027192
A12: 513 | B12: 513 | C12: מגדל קרנות נאמנות בע"מ | D12: 511303661 | E12: ח.פ. | F12: MTF סל (00) תל בונד שקלי | G12: IL0011500027 | H12: ISIN | I12: עוקב אחר מדדים אחרים בישראל | J12: ישראל | K12: ישראל | L12: TASE | M12: אג"ח בארץ - חברות והמרה-תל בונד שקלי-תל בונד- שקלי | N12: לא | O12: ILS | P12: 22278 | Q12: 1 | R12: 511.44 | S12: 0 | T12: 113.9386 | U12: 9e-05 | V12: 0.002664 | W12: 0.002158
A13: 513 | B13: 513 | C13: אי.בי.אי - קרנות נאמנות בע"מ | D13: 513765339 | E13: ח.פ. | F13: אי.בי.אי. סל (4A) ת"א-35 | G13: IL0012259946 | H13: ISIN | I13: עוקב אחר מדדי מניות בישראל | J13: ישראל | K13: ישראל | L13: TASE | M13: 35 מניות בארץ - מניות כללי-ת"א | N13: לא | O13: ILS | P13: 1994 | Q13: 1 | R13: 6594 | S13: 0 | T13: 131.48436 | U13: 0.000199 | V13: 0.003075 | W13: 0.00249
... A18: 513 | B18: 513 | C18: קסם קרנות נאמנות בע"מ | D18: 510938608 | E18: ח.פ. | F18: קסם ETFי (00) תל בונד צמודות-יתר | G18: IL0011469355 | H18: ISIN | I18: עוקב אחר מדדים אחרים בישראל | J18: ישראל | K18: ישראל | L18: TASE | M18: 20 אג"ח בארץ - חברות והמרה-תל בונד צמוד מדד-תל בונד | N18: לא | O18: ILS | P18: 58937 | Q18: 1 | R18: 4334.6 | S18: 0 | T18: 2554.6832 | U18: 0.00303 | V18: 0.059747 | W18: 0.048392
A19: 513 | B19: 513 | C19: Vanguard Group Inc | D19: 5493002789CX3L0CJP65 | E19: LEI | F19: VOO VANGUARD S&P 500 ETF (POALIM) | G19: US9229083632 | H19: ISIN | I19: עוקב אחר מדדי מניות בחו"ל | J19: חו"ל | K19: ארה"ב | L19: NYSE | M19: Equity Funds | N19: לא | O19: USD | P19: 1773 | Q19: 2.978 | R19: 68681 | S19: 0 | T19: 3626.3527 | U19: 1e-06 | V19: 0.084811 | W19: 0.068693
A20: 513 | B20: 513 | C20: AMUNDI INVT SOLUTIONS | D20: 213800WAVVOPS85N2205 | E20: LEI | F20: LCJD LN - MSCI Japan (P) | G20: LU1781541252 | H20: ISIN | I20: עוקב אחר מדדי מניות בחו"ל | J20: חו"ל | K20: יפן | L20: LSE | M20: Equity Funds | N20: לא | O20: USD | P20: 13734 | Q20: 2.978 | R20: 2585.5 | S20: 0 | T20: 1057.4657 | U20: 5.7e-05 | V20: 0.024731 | W20: 0.020031
A21: 513 | B21: 513 | C21: AMUNDI INVT SOLUTIONS | D21: 213800WAVVOPS85N2205 | E21: LEI | F21: AUEM FP - MSCI Emerging Markets (P) | G21: LU1681045453 | H21: ISIN | I21: עוקב אחר מדדי מניות בחו"ל | J21: חו"ל | K21: גלובלי | L21: EURONEXT | M21: Equity Funds | N21: לא | O21: USD | P21: 78391 | Q21: 2.978 | R21: 901.7 | S21: 0 | T21: 2105.0042 | U21: 0.000415 | V21: 0.04923 | W21: 0.039874
A22: 513 | B22: 513 | C22: INVESCO | D22: ECPGFXU8A2SHKVVGJI15 | E22: LEI | F22: MXUK GY Invesco Europe ex UK (POALIM) | G22: IE00BYX5K108 | H22: ISIN | I22: עוקב אחר מדדי מניות בחו"ל | J22: חו"ל | K22: אירופה | L22: אחר | M22: Equity Funds | N22: לא | O22: EUR | P22: 14022 | Q22: 3.3945 | R22: 4779 | S22: 0 | T22: 2274.6931 | U22: 0.010345 | V22: 0.053199 | W22: 0.043088
A23: 513 | B23: 513 | C23: HSBC | D23: MLU0ZO3ML4LN2LL2TL39 | E23: LEI | F23: HMWD LN HSBC MSCI WORLD (Poalim) | G23: IE00B4X9L533 | H23: ISIN | I23: עוקב אחר מדדי מניות בחו"ל | J23: חו"ל | K23: אסיה | L23: LSE | M23: Equity Funds | N23: לא | O23: USD | P23: 2896 | Q23: 2.978 | R23: 4847.88 | S23: 0 | T23: 418.0947 | U23: 9e-06 | V23: 0.009778 | W23: 0.007919
A24: 513 | B24: 513 | C24: Global X | D24: 988400XS10PE37QW6R37 | E24: LEI | F24: HXT CN - Canada TSX 60 (P) | G24: CA37963M1086 | H24: ISIN | I24: עוקב אחר מדדי מניות בחו"ל | J24: חו"ל | K24: קנדה | L24: TSX | M24: Equity Funds | N24: לא | O24: CAD | P24: 3137 | Q24: 2.0917 | R24: 9256 | S24: 0 | T24: 607.34752 | U24: 5.4e-05 | V24: 0.014204 | W24: 0.011504
A25: 513 | B25: 513 | C25: State Street | D25: 549300ZFEEJ2IP5VME73 | E25: LEI | F25: SPY SPDR S&P 500 (poalim) | G25: US78462F1030 | H25: ISIN | I25: עוקב אחר מדדי מניות בחו"ל | J25: חו"ל | K25: ארה"ב | L25: NYSE | M25: Equity Funds | N25: לא | O25: USD | P25: 1758 | Q25: 2.978 | R25: 74677 | S25: 3.34637 | T25: 3919.5484 | U25: 1e-06 | V25: 0.091668 | W25: 0.074246
A26: 513 | B26: 513 | C26: LYXOR INTL | D26: 213800WAVVOPS85N2205 | E26: LEI | F26: L100 LN - FTSE 100 (P) | G26: LU1650492173 | H26: ISIN | I26: עוקב אחר מדדי מניות בחו"ל | J26: חו"ל | K26: בריטניה | L26: NYSE | M26: Equity Funds | N26: לא | O26: GBP | P26: 8586 | Q26: 3.9389 | R26: 1913.8 | S26: 0 | T26: 647.23556 | U26: 0.000278 | V26: 0.015137 | W26: 0.01226
A27: 513 | B27: 513 | C27: AMUNDI INVT SOLUTIONS | D27: 213800WAVVOPS85N2205 | E27: LEI | F27: U127 LN - MSCI Emerging Markets (P) | G27: LU2573966905 | H27: ISIN | I27: עוקב אחר מדדי מניות בחו"ל | J27: חו"ל | K27: גלובלי | L27: LSE | M27: Equity Funds | N27: לא | O27: USD | P27: 2445 | Q27: 2.978 | R27: 7694.5 | S27: 0 | T27: 560.2527 | U27: 3.1e-05 | V27: 0.013102 | W27: 0.010612
A28: 513 | B28: 513 | C28: Xtrackers | D28: 549300PKYNYSI1CU4632 | E28: LEI | F28: XPXD LN DB Pacific Ex- Japan (POALIM) | G28: LU0322252338 | H28: ISIN | I28: עוקב אחר מדדי מניות בחו"ל | J28: חו"ל | K28: Developed Markets - Pacific | L28: LSE | M28: Equity Funds | N28: לא | O28: USD | P28: 1603 | Q28: 2.978 | R28: 9005 | S28: 0 | T28: 429.87475 | U28: 0.0002 | V28: 0.010053 | W28: 0.008143
A29: 513 | B29: 513 | C29: UBS | D29: 549300SZJ9VS8SGXAN81 | E29: LEI | F29: USMEGA SW UBS Poalim | G29: IE000YCD1TY0 | H29: ISIN | I29: עוקב אחר מדדי מניות בחו"ל | J29: חו"ל | K29: ארה"ב | L29: SIX | M29: Equity Funds | N29: לא | O29: USD | P29: 10740 | Q29: 2.978 | R29: 884.2 | S29: 0 | T29: 282.80005 | U29: 0.035445 | V29: 0.006614 | W29: 0.005357
A30: 513 | B30: 513 | C30: ISHARES | D30: 529900VBK42Y5HHRMD23 | E30: LEI | F30: IVV US Ishares S&P (Poalim) | G30: US4642872000 | H30: ISIN | I30: עוקב אחר מדדי מניות בחו"ל | J30: חו"ל | K30: ארה"ב | L30: NYSE | M30: Equity Funds | N30: לא | O30: USD | P30: 1742 | Q30: 2.978 | R30: 74889 | S30: 0 | T30: 3884.9987 | U30: 1e-06 | V30: 0.09086 | W30: 0.073592
A31: 513 | B31: 513 | C31: INVESCO | D31: ECPGFXU8A2SHKVVGJI15 | E31: LEI | F31: PBUS MSCI US Invesco | G31: US46138E4614 | H31: ISIN | I31: עוקב אחר מדדי מניות בחו"ל | J31: חו"ל | K31: ארה"ב | L31: CBOE | M31: Equity Funds | N31: לא | O31: USD | P31: 6591 | Q31: 2.978 | R31: 7484 | S31: 0 | T31: 1468.9594 | U31: 4.3e-05 | V31: 0.034355 | W31: 0.027826

Sheet קרנות נאמנות
A1: מספר קופה/קרן/ח.פ. עבור חברת ביטוח | B1: מספר מסלול | C1: שם מנפיק | D1: מספר מנפיק | E1: סוג מספר מזהה מנפיק | F1: שם נייר ערך | G1: מספר נייר ערך | H1: סוג מספר נייר ערך | I1: מאפיין עיקרי | J1: ישראל/חו"ל | K1: מדינה לפי חשיפה כלכלית | L1: סטאטוס סחירות | M1: זירת מסחר | N1: סיווג הקרן | O1: בעל עניין/צד קשור | P1: מטבע פעילות | Q1: ערך נקוב (יחידות) | R1: שער חליפין | S1: שער נייר הערך | T1: שווי הוגן (באלפי ש"ח) | U1: שיעור מערך נקוב מונפק | V1: שיעור מנכסי אפיק ההשקעה | W1: שיעור מסך נכסי ההשקעה
A2: 513 | B2: 513

Sheet כתבי אופציה
A1: מספר קופה/קרן/ח.פ. עבור חברת ביטוח | B1: מספר מסלול | C1: שם מנפיק | D1: מספר מנפיק | E1: סוג מספר מזהה מנפיק | F1: שם נייר ערך | G1: מספר נייר ערך | H1: סוג מספר נייר ערך | I1: ישראל/חו"ל | J1: מדינה לפי חשיפה כלכלית | K1: סטאטוס סחירות | L1: זירת מסחר | M1: נכס בסיס (כתב אופציה) | N1: ענף מסחר | O1: תאריך פקיעה | P1: בעל עניין/צד קשור | Q1: מטבע פעילות | R1: שער מימוש | S1: יחס המרה | T1: ערך נקוב (יחידות) | U1: שער חליפין | V1: שער נייר הערך | W1: שווי הוגן (באלפי ש"ח) | X1: שיעור מנכסי אפיק ההשקעה | Y1: שיעור מסך נכסי ההשקעה
A2: 513 | B2: 513

Sheet אופציות
A1: מספר קופה/קרן/ח.פ. עבור חברת ביטוח | B1: מספר מסלול | C1: שם מנפיק | D1: מספר מנפיק | E1: סוג מספר מזהה מנפיק | F1: שם נייר ערך | G1: מספר נייר ערך | H1: סוג מספר נייר ערך | I1: מאפיין עיקרי | J1: ישראל/חו"ל | K1: מדינה לפי חשיפה כלכלית | L1: זירת מסחר | M1: ענף מסחר | N1: נכס בסיס | O1: תאריך פקיעה | P1: בעל עניין/צד קשור | Q1: מטבע פעילות | R1: שער מימוש | S1: ערך נקוב (יחידות) | T1: שער חליפין | U1: שער נייר הערך | V1: שווי הוגן (באלפי ש"ח) | W1: שיעור מנכסי אפיק ההשקעה | X1: שיעור מסך נכסי ההשקעה
A2: 513 | B2: 513

Sheet חוזים עתידיים
A1: מספר קופה/קרן/ח.פ. עבור חברת ביטוח | B1: מספר מסלול | C1: שם מנפיק | D1: מספר מנפיק | E1: סוג מספר מזהה מנפיק | F1: שם נייר ערך | G1: מספר נייר ערך | H1: סוג מספר נייר ערך | I1: ישראל/חו"ל | J1: מדינה לפי חשיפה כלכלית | K1: זירת מסחר | L1: נכס בסיס | M1: בעל עניין/צד קשור | N1: מטבע פעילות | O1: ערך נקוב (יחידות) | P1: שער חליפין | Q1: שער נייר הערך | R1: שווי הוגן (באלפי ש"ח) | S1: שיעור מנכסי אפיק ההשקעה | T1: שיעור מסך נכסי ההשקעה
A2: 513 | B2: 513

Sheet מוצרים מובנים
A1: מספר קופה/קרן/ח.פ. עבור חברת ביטוח | B1: מספר מסלול | C1: שם מנפיק | D1: מספר מנפיק | E1: סוג מספר מזהה מנפיק | F1: שם נייר ערך | G1: מספר נייר ערך | H1: סוג מספר נייר ערך | I1: מאפיין עיקרי | J1: ישראל/חו"ל | K1: מדינה לפי חשיפה כלכלית | L1: סטאטוס סחירות | M1: זירת מסחר | N1: נכס בסיס | O1: בעל עניין/צד קשור | P1: מח"מ | Q1: שיעור ריבית | R1: תשואה לפדיון | S1: דירוג | T1: שם מדרג | U1: דירוג נייר הערך/המנפיק | V1: מטבע פעילות | W1: ערך נקוב (יחידות) | X1: שער חליפין | Y1: שער נייר הערך | Z1: שווי הוגן (באלפי ש"ח) | AA1: שיעור מנכסי אפיק ההשקעה | AB1: שיעור מסך נכסי ההשקעה
A2: 513 | B2: 513

Sheet לא סחיר איגרות חוב ממשלתיות
A1: מספר קופה/קרן/ח.פ. עבור חברת ביטוח | B1: מספר מסלול | C1: שם מנפיק | D1: שם נייר ערך | E1: מספר נייר ערך | F1: סוג מספר נייר ערך | G1: מאפיין עיקרי | H1: ישראל/חו"ל | I1: מדינה לפי חשיפה כלכלית | J1: תאריך רכישה | K1: דירוג | L1: שם מדרג | M1: מטבע פעילות | N1: מח"מ | O1: מועד פדיון | P1: שיעור ריבית | Q1: תשואה לפדיון | R1: ערך נקוב (יחידות) | S1: שער חליפין | T1: שער נייר הערך | U1: שווי הוגן (באלפי ש"ח) | V1: עלות מופחתת (באלפי ש"ח) | W1: השיטה שיושמה בדוח הכספי | X1: שיעור מנכסי אפיק ההשקעה | Y1: שיעור מסך נכסי ההשקעה
A2: 513 | B2: 513

Sheet לא סחיר איגרות חוב מיועדות
A1: מספר קופה/קרן/ח.פ. עבור חברת ביטוח | B1: מספר מסלול | C1: מאפיין עיקרי | D1: שם נייר ערך | E1: מספר נייר ערך | F1: תאריך רכישה | G1: מח"מ | H1: סוג הצמדה | I1: מועד פדיון | J1: שיעור ריבית | K1: תשואה לפדיון | L1: ערך נקוב (יחידות) | M1: שער נייר הערך | N1: שווי הוגן (באלפי ש"ח) | O1: עלות מופחתת (באלפי ש"ח) | P1: השיטה שיושמה בדוח הכספי | Q1: שיעור מנכסי אפיק ההשקעה | R1: שיעור מסך נכסי ההשקעה
A2: 513 | B2: 513

Sheet אפיק השקעה מובטח תשואה
A1: מספר קרן | B1: מספר מסלול | C1: מאפיין עיקרי | D1: חודש הנפקת שכבה | E1: חודש הבדיקה | F1: שווי הנכסים באפיק (באלפי ש"ח) | G1: שיעור מסך נכסי ההשקעה
A2: 513 | B2: 513

Sheet לא סחיר ניירות ערך מסחריים
A1: מספר קופה/קרן/ח.פ. עבור חברת ביטוח | B1: מספר מסלול | C1: שם מנפיק | D1: מספר מנפיק | E1: סוג מספר מזהה מנפיק | F1: שם נייר ערך | G1: מספר נייר ערך | H1: סוג מספר נייר ערך | I1: מאפיין עיקרי | J1: ישראל/חו"ל | K1: מדינה לפי חשיפה כלכלית | L1: ענף מסחר | M1: בעל עניין/צד קשור | N1: תאריך רכישה | O1: דירוג | P1: שם מדרג | Q1: דירוג נייר הערך/המנפיק | R1: מטבע פעילות | S1: מח"מ | T1: סוג הצמדה | U1: ריבית עוגן | V1: מועד פדיון | W1: שיעור ריבית | X1: תשואה לפדיון | Y1: נחיתות חוזית | Z1: האם סווג כחוב בעייתי | AA1: סוג גורם משערך | AB1: תלות/אי-תלות המשערך | AC1: שם גורם משערך | AD1: תאריך שערוך אחרון | AE1: תאריך אחרון בו נבחנה בפועל ירידת ערך | AF1: ערך נקוב (יחידות) | AG1: שער חליפין | AH1: שער נייר הערך | AI1: שווי הוגן (באלפי ש"ח) | AJ1: עלות מופחתת (באלפי ש"ח) | AK1: עלות מופחתת (במטבע הפעילות) | AL1: השיטה שיושמה בדוח הכספי | AM1: שיעור מנכסי אפיק ההשקעה | AN1: שיעור מסך נכסי ההשקעה
A2: 513 | B2: 513

Sheet לא סחיר איגרות חוב
A1: מספר קופה/קרן/ח.פ. עבור חברת ביטוח | B1: מספר מסלול | C1: שם מנפיק | D1: מספר מנפיק | E1: סוג מספר מזהה מנפיק | F1: שם נייר ערך | G1: מספר נייר ערך | H1: סוג מספר נייר ערך | I1: מאפיין עיקרי | J1: ישראל/חו"ל | K1: מדינה לפי חשיפה כלכלית | L1: סטאטוס סחירות | M1: ענף מסחר | N1: בעל עניין/צד קשור | O1: תאריך רכישה | P1: דירוג | Q1: שם מדרג | R1: דירוג נייר הערך/המנפיק | S1: מטבע פעילות | T1: מח"מ | U1: מועד פדיון | V1: תשואה לפדיון | W1: שיעור ריבית | X1: נחיתות חוזית | Y1: האם סווג כחוב בעייתי | Z1: סוג גורם משערך | AA1: תלות/אי-תלות המשערך | AB1: תאריך שערוך אחרון | AC1: תאריך אחרון בו נבחנה בפועל ירידת ערך | AD1: ערך נקוב (יחידות) | AE1: שער חליפין | AF1: שער נייר הערך | AG1: שווי הוגן (באלפי ש"ח) | AH1: עלות מופחתת (באלפי ש"ח) | AI1: עלות מופחתת (במטבע הפעילות) | AJ1: השיטה שיושמה בדוח הכספי | AK1: שיעור מנכסי אפיק ההשקעה | AL1: שיעור מסך נכסי ההשקעה
A2: 513 | B2: 513

Sheet לא סחיר מניות מבכ ויהש
A1: מספר קופה/קרן/ח.פ. עבור חברת ביטוח | B1: מספר מסלול | C1: שם מנפיק | D1: מספר מנפיק | E1: סוג מספר מזהה מנפיק | F1: שם נייר ערך | G1: מספר נייר ערך | H1: סוג מספר נייר ערך | I1: מאפיין עיקרי | J1: ישראל/חו"ל | K1: מדינה לפי חשיפה כלכלית | L1: סטאטוס סחירות | M1: ענף מסחר | N1: בעל עניין/צד קשור | O1: תאריך רכישה | P1: מטבע פעילות | Q1: סוג גורם משערך | R1: תלות/אי-תלות המשערך | S1: תאריך שערוך אחרון | T1: תאריך אחרון בו נבחנה בפועל ירידת ערך | U1: ערך נקוב (יחידות) | V1: שער חליפין | W1: שער נייר הערך | X1: שווי הוגן (באלפי ש"ח) | Y1: שיעור מנכסי אפיק ההשקעה | Z1: שיעור מסך נכסי ההשקעה
A2: 513 | B2: 513

Sheet קרנות השקעה
A1: מספר קופה/קרן/ח.פ. עבור חברת ביטוח | B1: מספר מסלול | C1: שם שותף כללי קרן השקעות | D1: מספר מזהה שותף כללי קרן השקעות | E1: סוג מספר מזהה שותף כללי קרן השקעות | F1: שם קרן השקעה | G1: מספר מזהה קרן השקעה | H1: סוג מספר מזהה קרן השקעות | I1: מאפיין עיקרי | J1: אסטרטגיית קרן ההשקעה | K1: ישראל/חו"ל | L1: מדינת התאגדות קרן השקעה | M1: מיקום משרד השותף הכללי | N1: מדינה לפי חשיפה כלכלית | O1: בעל עניין/צד קשור | P1: תאריך רכישה | Q1: מטבע פעילות | R1: סוג גורם משערך | S1: תלות/אי-תלות המשערך | T1: תאריך שערוך אחרון | U1: שער חליפין | V1: NAV (במטבע הדיווח של קרן ההשקעה) | W1: שווי הוגן (באלפי ש"ח) | X1: שיעור החזקה בקרן השקעה | Y1: שיעור מנכסי אפיק ההשקעה | Z1: שיעור מסך נכסי ההשקעה
A2: 513 | B2: 513

Sheet לא סחיר כתבי אופציה
A1: מספר קופה/קרן/ח.פ. עבור חברת ביטוח | B1: מספר מסלול | C1: שם מנפיק | D1: מספר מנפיק | E1: סוג מספר מזהה מנפיק | F1: שם נייר ערך | G1: מספר נייר ערך | H1: סוג מספר נייר ערך | I1: ישראל/חו"ל | J1: מדינה לפי חשיפה כלכלית | K1: סטאטוס סחירות | L1: נכס בסיס (כתב אופציה) | M1: ענף מסחר | N1: תאריך פקיעה | O1: בעל עניין/צד קשור | P1: תאריך רכישה | Q1: מטבע פעילות | R1: סוג גורם משערך | S1: תלות/אי-תלות המשערך | T1: תאריך שערוך אחרון | U1: שער מימוש | V1: יחס המרה | W1: ערך נקוב (יחידות) | X1: שער נייר הערך | Y1: שער חליפין | Z1: שווי הוגן (באלפי ש"ח) | AA1: שיעור מנכסי אפיק ההשקעה | AB1: שיעור מסך נכסי ההשקעה
A2: 513 | B2: 513

Sheet לא סחיר אופציות
A1: מספר קופה/קרן/ח.פ. עבור חברת ביטוח | B1: מספר מסלול | C1: שם מנפיק | D1: מספר מנפיק | E1: סוג מספר מזהה מנפיק | F1: שם נייר ערך | G1: מספר נייר ערך | H1: סוג מספר נייר ערך | I1: מאפיין עיקרי | J1: ישראל/חו"ל | K1: מדינה לפי חשיפה כלכלית | L1: ענף מסחר | M1: נכס בסיס | N1: תאריך פקיעה | O1: בעל עניין/צד קשור | P1: תאריך רכישה | Q1: מטבע פעילות | R1: סוג גורם משערך | S1: תלות/אי-תלות המשערך | T1: תאריך שערוך אחרון | U1: שער מימוש | V1: יחס המרה | W1: ערך נקוב (יחידות) | X1: שער נייר הערך | Y1: שער חליפין | Z1: שווי הוגן (באלפי ש"ח) | AA1: שיעור מנכסי אפיק ההשקעה | AB1: שיעור מסך נכסי ההשקעה
A2: 513 | B2: 513

Sheet לא סחיר נגזרים אחרים
A1: מספר קופה/קרן/ח.פ. עבור חברת ביטוח | B1: מספר מסלול | C1: מאפיין עיקרי | D1: מספר עסקה (רגל 1) | E1: מטבע פעילות (רגל 1) | F1: שער חליפין (רגל 1) | G1: ערך נקוב (רגל 1) | H1: שווי הוגן במטבע הנסחר (רגל 1) | I1: שיעור מנכסי אפיק ההשקעה (רגל 1) | J1: שיעור מסך נכסי ההשקעה (רגל 1) | K1: מספר עסקה (רגל 2) | L1: מטבע פעילות (רגל 2) | M1: שער חליפין (רגל 2) | N1: ערך נקוב (רגל 2) | O1: שווי הוגן במטבע הנסחר (רגל 2) | P1: שיעור מנכסי ההשקעה (רגל 2) | Q1: שיעור מסך אפיק ההשקעה (רגל 2) | R1: שווי הוגן (נטו באלפי ש"ח) | S1: ישראל/חו"ל | T1: מדינה לפי חשיפה כלכלית | U1: סוג הנכס | V1: פקטור מוביל | W1: פקטור נוסף | X1: טיקר | Y1: בעל עניין/צד קשור | Z1: מועד ההתקשרות בעסקה | AA1: מועד סיום חוזי | AB1: תדירות Reset | AC1: סוג הסליקה | AD1: נספח התחשבנות בטחונות - CSA | AE1: גורם מצטט | AF1: ריבית עוגן | AG1: תקופת ריבית עוגן | AH1: שיעור ריבית עוגן | AI1: שער נכס הבסיס במועד ההתקשרות בעסקה | AJ1: שער הנגזר במועד ההתקשרות בעסקה | AK1: האם קיים קנס בגין יציאה מוקדמת | AL1: שיעור הקנס בגין יציאה מוקדמת | AM1: צד נגדי - Counterparty | AN1: שיעור מנכסי אפיק ההשקעה | AO1: שיעור מסך נכסי ההשקעה
A2: 513 | B2: 513 | C2: Funded Forward | D2: 76021632 | E2: USD | F2: 2.978 | G2: -450000 | H2: -450 | I2: 0.1265111 | J2: -0.025385167 | K2: 760216320 | L2: ILS | M2: 1 | N2: 450000 | O2: 1392.469 | P2: 0.026377179 | Q2: 0.12204538 | R2: 52.36897 | S2: ישראל | T2: ישראל | U2: מט"ח | V2: אחר | W2: מט"ח/₪ | X2: USDILS | Y2: לא | Z2: 46121 | AA2: 46485 | AB2: ללא | AC2: Delivery | AD2: לא קיים חוזה | AE2: הצד הנגדי | AF2: ללא | AG2: ללא | AI2: 3.088 | AM2: MIZBILIT | AN2: 0.064123407 | AO2: 0.00099201184
A3: 513 | B3: 513 | C3: Funded Forward | D3: 76021580 | E3: USD | F3: 2.978 | G3: -1090000 | H3: -1090 | I3: 0.30643801 | J3: -0.061488516 | K3: 760215800 | L3: ILS | M3: 1 | N3: 1090000 | O3: 3507.4901 | P3: 0.066441477 | Q3: 0.3074201 | R3: 261.47011 | S3: ישראל | T3: ישראל | U3: מט"ח | V3: אחר | W3: מט"ח/₪ | X3: USDILS | Y3: לא | Z3: 46001 | AA3: 46366 | AB3: ללא | AC3: Delivery | AD3: לא קיים חוזה | AE3: הצד הנגדי | AF3: ללא | AG3: ללא | AI3: 3.228 | AM3: MIZBILIT | AN3: 0.32015819 | AO3: 0.0049529606
A4: 513 | B4: 513 | C4: Funded Forward | D4: 76021598 | E4: USD | F4: 2.978 | G4: -1000000 | H4: -1000 | I4: 0.28113579 | J4: -0.056411483 | K4: 760215980 | L4: ILS | M4: 1 | N4: 1000000 | O4: 3176.1642 | P4: 0.060165257 | Q4: 0.27838047 | R4: 198.16424 | S4: ישראל | T4: ישראל | U4: מט"ח | V4: אחר | W4: מט"ח/₪ | X4: USDILS | Y4: לא | Z4: 46029 | AA4: 46394 | AB4: ללא | AC4: Delivery | AD4: לא קיים חוזה | AE4: הצד הנגדי | AF4: ללא | AG4: ללא | AI4: 3.175 | AM4: MIZBILIT | AN4: 0.24264304 | AO4: 0.0037537739
A5: 513 | B5: 513 | C5: Funded Forward | D5: 76021638 | E5: USD | F5: 2.978 | G5: -180000 | H5: -180 | I5: 0.050604442 | J5: -0.010154067 | K5: 760216380 | L5: ILS | M5: 1 | N5: 180000 | O5: 526.7916 | P5: 0.0099788769 | Q5: 0.046171571 | R5: -9.2484 | S5: ישראל | T5: ישראל | U5: מט"ח | V5: אחר | W5: מט"ח/₪ | X5: USDILS | Y5: לא | Z5: 46155 | AA5: 46520 | AB5: ללא | AC5: Delivery | AD5: לא קיים חוזה | AE5: הצד הנגדי | AF5: ללא | AG5: ללא | AI5: 2.908 | AM5: MIZBILIT | AN5: -0.011324243 | AO5: -0.00017519005
A6: 513 | B6: 513 | C6: Funded Forward | D6: 76021536 | E6: USD | F6: 2.978 | G6: -180000 | H6: -180 | I6: 0.050604442 | J6: -0.010154067 | K6: 760215360 | L6: ILS | M6: 1 | N6: 180000 | O6: 599.7886 | P6: 0.01136164 | Q6: 0.052569521 | R6: 63.7486 | S6: ישראל | T6: ישראל | U6: מט"ח | V6: אחר | W6: מט"ח/₪ | X6: USDILS | Y6: לא | Z6: 45916 | AA6: 46247 | AB6: ללא | AC6: Delivery | AD6: לא קיים חוזה | AE6: הצד הנגדי | AF6: ללא | AG6: ללא | AI6: 3.343 | AM6: MIZBILIT | AN6: 0.078057244 | AO6: 0.0012075732
A7: 513 | B7: 513 | C7: Funded Forward | D7: 76021494 | E7: USD | F7: 2.978 | G7: -407000 | H7: -407 | I7: 0.11442227 | J7: -0.022959474 | K7: 760214940 | L7: ILS | M7: 1 | N7: 407000 | O7: 1389.0498 | P7: 0.026312411 | Q7: 0.1217457 | R7: 177.0038 | S7: ישראל | T7: ישראל | U7: מט"ח | V7: אחר | W7: מט"ח/₪ | X7: USDILS | Y7: לא | Z7: 45881 | AA7: 46247 | AB7: ללא | AC7: Delivery | AD7: לא קיים חוזה | AE7: הצד הנגדי | AF7: ללא | AG7: ללא | AI7: 3.429 | AM7: MIZBILIT | AN7: 0.21673305 | AO7: 0.0033529372
A8: 513 | B8: 513 | C8: Funded Forward | D8: 76021552 | E8: USD | F8: 2.978 | G8: -250000 | H8: -250 | I8: 0.070283947 | J8: -0.014102871 | K8: 760215520 | L8: ILS | M8: 1 | N8: 250000 | O8: 817.68306 | P8: 0.015489159 | Q8: 0.071667261 | R8: 73.18306 | S8: ישראל | T8: ישראל | U8: מט"ח | V8: אחר | W8: מט"ח/₪ | X8: USDILS | Y8: לא | Z8: 45957 | AA8: 46321 | AB8: ללא | AC8: Delivery | AD8: לא קיים חוזה | AE8: הצד הנגדי | AF8: ללא | AG8: ללא | AI8: 3.259 | AM8: MIZBILIT | AN8: 0.089609308 | AO8: 0.0013862878

Sheet הלוואות
A1: מספר קופה/קרן/ח.פ. עבור חברת ביטוח | B1: מספר מסלול | C1: מספר מזהה לווה | D1: סוג מספר מזהה לווה | E1: שם הלוואה | F1: מספר הלוואה | G1: מאפיין עיקרי | H1: מאפיין הלוואות מתואמות עבור זכויות מקרקעין | I1: ישראל/חו"ל | J1: מדינה לפי חשיפה כלכלית | K1: ענף מסחר | L1: בעל עניין/צד קשור | M1: קונסורציום/ סינדיקציה | N1: מספר קונסורציום/ סינדיקציה | O1: תאריך העמדת הלוואה | P1: דירוג | Q1: שם מדרג | R1: דירוג הלוואה/המנפיק | S1: מטבע פעילות | T1: מח"מ | U1: סוג הריבית | V1: שיעור ריבית | W1: סוג הצמדה | X1: ריבית עוגן | Y1: שיעור תוספת/הפחתה לריבית העוגן | Z1: תשואה לפדיון | AA1: מועד פדיון | AB1: נחיתות חוזית | AC1: סוג בטוחה | AD1: שווי הבטוחות העומדות כנגד ההלוואה | AE1: שיעור הבטוחות מהחוב | AF1: מועד עדכון אחרון לשווי הבטוחות | AG1: זכות חזרה | AH1: מבנה לוח סילוקין | AI1: יעוד הלוואה | AJ1: זכות פירעון מוקדם | AK1: סוג גורם משערך | AL1: שם גורם משערך | AM1: תלות/אי-תלות המשערך | AN1: תאריך שערוך אחרון | AO1: תאריך אחרון בו נבחנה בפועל ירידת ערך | AP1: שיעור ריבית בגין אי-ניצול מסגרת האשראי | AQ1: ערך נקוב | AR1: שער הלוואה | AS1: שער חליפין | AT1: שווי הוגן (באלפי ש"ח) | AU1: שווי הוגן (במטבע הפעילות) | AV1: עלות מופחתת (באלפי ש"ח) | AW1: עלות מופחתת (במטבע הפעילות) | AX1: האם סווג כחוב בעייתי | AY1: השיטה שיושמה בדוח הכספי | AZ1: שיעור מנכסי אפיק ההשקעה | BA1: שיעור מסך נכסי ההשקעה
A2: 513 | B2: 513

Sheet לא סחיר מוצרים מובנים
A1: מספר קופה/קרן/ח.פ. עבור חברת ביטוח | B1: מספר מסלול | C1: שם מנפיק | D1: מספר מנפיק | E1: סוג מספר מזהה מנפיק | F1: שם נייר ערך | G1: מספר נייר ערך | H1: סוג מספר נייר ערך | I1: מאפיין עיקרי | J1: ישראל/חו"ל | K1: מדינה לפי חשיפה כלכלית | L1: בעל עניין/צד קשור | M1: נכס בסיס | N1: תאריך רכישה | O1: דירוג | P1: שם מדרג | Q1: דירוג נייר הערך/המנפיק | R1: מטבע פעילות | S1: מח"מ | T1: שיעור ריבית | U1: תשואה לפדיון | V1: סוג גורם משערך | W1: תלות/אי-תלות המשערך | X1: תאריך שערוך אחרון | Y1: ערך נקוב (יחידות) | Z1: שער חליפין | AA1: שער נייר הערך | AB1: שווי הוגן (באלפי ש"ח) | AC1: שיעור מנכסי אפיק ההשקעה | AD1: שיעור מסך נכסי ההשקעה
A2: 513 | B2: 513

Sheet פיקדונות מעל 3 חודשים
A1: מספר קופה/קרן/ח.פ. עבור חברת ביטוח | B1: מספר מסלול | C1: שם הבנק | D1: מספר מזהה בנק | E1: סוג מספר מזהה בנק | F1: מאפיין עיקרי | G1: תאריך פקיעת פיקדון | H1: ישראל/חו"ל | I1: מדינה לפי חשיפה כלכלית | J1: בעל עניין/צד קשור | K1: דירוג הבנק | L1: שם מדרג | M1: מטבע פעילות | N1: מח"מ | O1: שיעור ריבית | P1: תשואה לפדיון | Q1: שווי מטבעי | R1: שער חליפין | S1: שער פיקדון | T1: שווי הוגן (באלפי ש"ח) | U1: שיעור מנכסי אפיק ההשקעה | V1: שיעור מסך נכסי ההשקעה
A2: 513 | B2: 513

Sheet זכויות מקרקעין
A1: מספר קופה/קרן/ח.פ. עבור חברת ביטוח | B1: מספר מסלול | C1: שם הנכס | D1: מאפיין עיקרי | E1: מדינת מיקום נדל"ן | F1: בעל עניין/צד קשור | G1: תאריך רכישה | H1: שימוש עיקרי בנכס | I1: מחזור חיי הנכס | J1: כתובת הנכס | K1: שיעור תשואה בפועל במהלך הרבעון | L1: השיטה שבאמצעותה נקבע שווי הנכס | M1: סוג גורם משערך | N1: שם גורם משערך | O1: תלות/אי-תלות המשערך | P1: תאריך שערוך אחרון | Q1: מטבע פעילות | R1: שווי הוגן (במטבע הפעילות) | S1: שווי הוגן (באלפי ש"ח) | T1: עלות מופחתת (באלפי ש"ח) | U1: עלות מופחתת (במטבע הפעילות) | V1: השיטה שיושמה בדוח הכספי | W1: שיעור מנכסי אפיק ההשקעה | X1: שיעור מסך נכסי ההשקעה
A2: 513 | B2: 513

Sheet השקעה בחברות מוחזקות
A1: מספר קופה/קרן/ח.פ. עבור חברת ביטוח | B1: מספר מסלול | C1: שם מנפיק | D1: מספר מנפיק | E1: סוג מספר מזהה מנפיק | F1: שם נייר ערך | G1: מספר נייר ערך | H1: סוג מספר נייר ערך | I1: מאפיין עיקרי | J1: ישראל/חו"ל | K1: מדינה לפי חשיפה כלכלית | L1: ענף מסחר | M1: בעל עניין/צד קשור | N1: מטבע פעילות | O1: סוג גורם משערך | P1: תלות/אי-תלות המשערך | Q1: תאריך שערוך אחרון | R1: תאריך אחרון בו נבחנה בפועל ירידת ערך | S1: שיעור אחזקה באמצעי שליטה | T1: שווי מאזני (באלפי ש"ח) | U1: שווי הוגן (באלפי ש"ח) | V1: שיעור מנכסי אפיק ההשקעה | W1: שיעור מסך נכסי ההשקעה
A2: 513 | B2: 513

Sheet נכסים אחרים
A1: מספר קופה/קרן/ח.פ. עבור חברת ביטוח | B1: מספר מסלול | C1: שם הנכס האחר | D1: מספר הנכס האחר | E1: מאפיין עיקרי | F1: ישראל/חו"ל | G1: מדינה לפי חשיפה כלכלית | H1: בעל עניין/צד קשור | I1: תאריך עסקה | J1: מטבע פעילות | K1: תאריך שערוך אחרון | L1: שווי מטבעי | M1: שער חליפין | N1: שווי הוגן (באלפי ש"ח) | O1: עלות מופחתת (באלפי ש"ח) | P1: השיטה שיושמה בדוח הכספי | Q1: שיעור מנכסי אפיק ההשקעה | R1: שיעור מסך נכסי ההשקעה
A2: 513 | B2: 513

Sheet מסגרות אשראי
A1: מספר קופה/קרן/ח.פ. עבור חברת ביטוח | B1: מספר מסלול | C1: מספר מזהה לווה | D1: סוג מספר מזהה לווה | E1: שם הלוואה | F1: מספר הלוואה | G1: תאריך העמדת מסגרת אשראי | H1: ישראל/חו"ל | I1: מדינה לפי חשיפה כלכלית | J1: בעל עניין/צד קשור | K1: דירוג | L1: שם מדרג | M1: דירוג הלוואה/המנפיק | N1: מטבע פעילות | O1: שער חליפין | P1: שיעור ריבית | Q1: סוג הריבית | R1: סכום מסגרת האשראי הראשוני (במטבע הפעילות) | S1: סכום מסגרת האשראי הראשוני (באלפי ש"ח) | T1: שיעור יתרת מסגרת אשראי
A2: 513 | B2: 513

Sheet יתרות התחייבות להשקעה
A1: מספר קופה/קרן/ח.פ. עבור חברת ביטוח | B1: מספר מסלול | C1: מאפיין עיקרי | D1: שם שותף כללי קרן השקעות | E1: מספר מזהה שותף כללי קרן השקעות | F1: סוג מספר מזהה שותף כללי קרן השקעות | G1: שם קרן השקעה | H1: מספר מזהה קרן השקעה | I1: סוג מספר מזהה קרן השקעות | J1: מטבע פעילות | K1: תאריך העמדת התחייבות לקרן השקעה | L1: סכום המחויבות הראשוני (במטבע הדיווח של קרן ההשקעה) | M1: סכום המחויבות הראשוני (באלפי ש"ח) | N1: יתרת המחויבות לתקופת הדיווח (במטבע הדיווח של קרן ההשקעה) | O1: יתרת המחויבות לתקופת הדיווח (באלפי ש"ח) | P1: שיעור יתרת המחויבות | Q1: תאריך פקיעת מחויבות להשקעה
A2: 513 | B2: 513

Sheet אפשרויות בחירה
A1: שם גיליון (רלוונטי לגיליונות עם עמודה "מאפיין עיקרי") | B1: שם עמודה | C1: אפשרות בחירה | D1: שם רשימה | E1: הערות והסברים
B2: ישראל/חו"ל | C2: ישראל | D2: ישראל/חו"ל
C3: חו"ל
B4: מדינה לפי חשיפה כלכלית, מדינת התאגדות קרן השקעה, מיקום משרד השותף הכללי, מדינת מיקום נדל"ן | C4: ישראל | D4: מדינות
C5: אוסטריה
C6: אוסטרליה
C7: אזור תעלת פנמה
C8: אזרביג'אן
C9: איחוד האמירויות הערביות
C10: איטליה
C11: איי הבתולה הבריטיים | F11: נוסף במסגרת עדכון הרשימה
C12: איי הבתולה של ארצות הברית | F12: נוסף במסגרת עדכון הרשימה
C13: איי סיישל
C14: איי קיימן
C15: איי שלמה הבריטיים
C16: איסלנד
C17: אירלנד
C18: אנדורה
C19: אסטוניה
C20: ארגנטינה
C21: ארה"ב
C22: אתיופיה
C23: בהמס
C24: בולגריה
... C35: גרמניה
C36: ג'רזי (Jersey) | F36: נוסף במסגרת עדכון הרשימה
C37: גרנזי (Guernsey) | F37: נוסף במסגרת עדכון הרשימה
C38: דנמרק
C39: דרום אפריקה
C40: דרום קוריאה | F40: נוסף במסגרת עדכון הרשימה
C41: הודו
C42: הולנד
C43: הונג קונג
C44: הונגריה
C45: הונדורס
C46: טייוואן | F46: נוסף במסגרת עדכון הרשימה
C47: יוון
C48: יפן
C49: ירדן
C50: לוכסמבורג
...

Sheet מיפוי סעיפים
A1: שם גיליון | B1: שם סעיף | C1: מספר סעיף | D1: מידע שניתן לדווח רק לרשות
A2: מזומנים ושווי מזומנים | B2: מספר קופה/קרן/ח.פ. עבור חברת ביטוח | C2: 5.1
A3: מזומנים ושווי מזומנים | B3: מספר מסלול | C3: 5.2
A4: מזומנים ושווי מזומנים | B4: שם הבנק | C4: 5.4
A5: מזומנים ושווי מזומנים | B5: מספר מזהה בנק | C5: 5.7
A6: מזומנים ושווי מזומנים | B6: סוג מספר מזהה בנק | C6: 5.11
A7: מזומנים ושווי מזומנים | B7: מאפיין עיקרי | C7: 5.26
A8: מזומנים ושווי מזומנים | B8: ישראל/חו"ל | C8: 5.27
A9: מזומנים ושווי מזומנים | B9: בעל עניין/צד קשור | C9: 5.36
A10: מזומנים ושווי מזומנים | B10: דירוג הבנק | C10: 5.5
A11: מזומנים ושווי מזומנים | B11: שם מדרג | C11: 5.51
A12: מזומנים ושווי מזומנים | B12: מטבע פעילות | C12: 5.53
A13: מזומנים ושווי מזומנים | B13: שווי מטבעי | C13: 5.59
A14: מזומנים ושווי מזומנים | B14: שער חליפין | C14: 5.54
A15: מזומנים ושווי מזומנים | B15: שיעור ריבית | C15: 5.7 | D15: ü
A16: מזומנים ושווי מזומנים | B16: שווי הוגן (באלפי ש"ח) | C16: 5.63
A17: מזומנים ושווי מזומנים | B17: שיעור מנכסי אפיק ההשקעה | C17: 5.47
A18: מזומנים ושווי מזומנים | B18: שיעור מסך נכסי ההשקעה | C18: 5.48
A19: מזומנים ושווי מזומנים
A20: איגרות חוב ממשלתיות | B20: מספר קופה/קרן/ח.פ. עבור חברת ביטוח | C20: 5.1
A21: איגרות חוב ממשלתיות | B21: מספר מסלול | C21: 5.2
A22: איגרות חוב ממשלתיות | B22: שם מנפיק | C22: 5.3
A23: איגרות חוב ממשלתיות | B23: שם נייר ערך | C23: 5.14
A24: איגרות חוב ממשלתיות | B24: מספר נייר ערך | C24: 5.19
A25: איגרות חוב ממשלתיות | B25: מאפיין עיקרי | C25: 5.26
A26: איגרות חוב ממשלתיות | B26: ישראל/חו"ל | C26: 5.27
A27: איגרות חוב ממשלתיות | B27: מדינה לפי חשיפה כלכלית | C27: 5.28
A28: איגרות חוב ממשלתיות | B28: זירת מסחר | C28: 5.3
A29: איגרות חוב ממשלתיות | B29: דירוג | C29: 5.49
A30: איגרות חוב ממשלתיות | B30: שם מדרג | C30: 5.51
A31: איגרות חוב ממשלתיות | B31: מטבע פעילות | C31: 5.53
... A45: איגרות חוב ממשלתיות | B45: שיעור מסך נכסי ההשקעה | C45: 5.48
A46: איגרות חוב ממשלתיות
A47: ניירות ערך מסחריים | B47: מספר קופה/קרן/ח.פ. עבור חברת ביטוח | C47: 5.1
A48: ניירות ערך מסחריים | B48: מספר מסלול | C48: 5.2
A49: ניירות ערך מסחריים | B49: שם מנפיק | C49: 5.3
A50: ניירות ערך מסחריים | B50: מספר מנפיק | C50: 5.6
A51: ניירות ערך מסחריים | B51: סוג מספר מזהה מנפיק | C51: 5.1
A52: ניירות ערך מסחריים | B52: שם נייר ערך | C52: 5.14
A53: ניירות ערך מסחריים | B53: מספר נייר ערך | C53: 5.19
...

Sheet File Name Info
A2: סוג קובץ
A3: נכסי מבוטחים - חברת ביטוח | B3: in
A4: נכסי עמיתים - קופות גמל | B4: gm
A5: נכסי עמיתים - קרנות פנסיה | B5: pn
A6: נכסי אפיק השקעה מובטח תשואה | B6: ca
A7: נכסי נוסטרו - חברת ביטוח | B7: ni
A8: נכסי נוסטרו - חברה מנהלת | B8: nf
A10: יעוד הקובץ
A11: לממונה
A12: לציבור | B12: p
A15: רבעון
A16: 01
A17: 02
A18: 03
A19: 04
A21: שנה
A22: 2022 | B22: 22
A23: 2023 | B23: 23
A24: 2024 | B24: 24
A25: 2025 | B25: 25
A26: 2026 | B26: 26
A27: 2027 | B27: 27
A28: 2028 | B28: 28
A29: 2029 | B29: 29
A30: 2030 | B30: 30
A31: 2031 | B31: 31
A34: שם גוף מוסדי | B34: ח.פ.
A35: הפניקס חברה לביטוח בע"מ | B35: 520023185
A36: כלל חברה לביטוח בע"מ | B36: 520024647
A37: מגדל חברה לביטוח בע"מ | B37: 520004896
A38: מנורה מבטחים ביטוח בע"מ | B38: 520042540
A39: אשרא החברה הישראלית לביטוח סיכוני סחר חוץ בע"מ | B39: 520021916
A40: שומרה חברה לביטוח בע"מ | B40: 510015951
A41: כלל ביטוח אשראי בע"מ | B41: 510888985
A42: הכשרה חברה לביטוח בע"מ | B42: 520042177
A43: ענבל חברה לביטוח בע"מ | B43: 520031030
A44: איילון חברה לביטוח בע"מ | B44: 520030677
A45: ש. שלמה חברה לביטוח בע"מ | B45: 513879189
A46: קנט - קרן לביטוח נזקי טבע בחקלאות | B46: 520027848
... A130: אקטיון בע"מ | B130: 515977338
